BEGIN:VCALENDAR
VERSION:2.0
PRODID:icalendar-ruby
CALSCALE:GREGORIAN
BEGIN:VEVENT
DTSTAMP:20260422T170941Z
UID:9c857ba7-3470-41b6-bd3a-15ba491f9586
DTSTART:20230106T210000
DTEND:20230106T220000
DESCRIPTION:Ein Service von PROUDY.de. Mehr Informationen unter https://pro
 udy.de/de/events/97539.
SUMMARY:Singleklub #111
END:VEVENT
END:VCALENDAR
