BEGIN:VCALENDAR
VERSION:2.0
PRODID:icalendar-ruby
CALSCALE:GREGORIAN
BEGIN:VEVENT
DTSTAMP:20260422T173508Z
UID:51330ac6-b9a9-4950-a8c6-973919cb8cff
DTSTART:20260428T200000
DTEND:20260428T210000
DESCRIPTION:Ein Service von PROUDY.de. Mehr Informationen unter https://pro
 udy.de/de/events/132515.
SUMMARY:Urban Priol: Im Fluss. Täglich quellfrisch\, immer aktuell!
END:VEVENT
END:VCALENDAR
