BEGIN:VCALENDAR
VERSION:2.0
PRODID:icalendar-ruby
CALSCALE:GREGORIAN
BEGIN:VEVENT
DTSTAMP:20260425T164841Z
UID:a258754b-ff2e-4ec7-9ac0-c3dd6030c04b
DTSTART:20240914T130000
DTEND:20240914T140000
DESCRIPTION:Ein Service von PROUDY.de. Mehr Informationen unter https://pro
 udy.de/de/events/115581.
SUMMARY:Tattoo Bingo
END:VEVENT
END:VCALENDAR
